BEGIN:VCALENDAR
VERSION:2.0
PRODID:-//Hijraa Kemaman - ECPv6.15.11//NONSGML v1.0//EN
CALSCALE:GREGORIAN
METHOD:PUBLISH
X-WR-CALNAME:Hijraa Kemaman
X-ORIGINAL-URL:https://hijraakemaman.com
X-WR-CALDESC:Events for Hijraa Kemaman
REFRESH-INTERVAL;VALUE=DURATION:PT1H
X-Robots-Tag:noindex
X-PUBLISHED-TTL:PT1H
BEGIN:VTIMEZONE
TZID:Asia/Shanghai
BEGIN:STANDARD
TZOFFSETFROM:+0800
TZOFFSETTO:+0800
TZNAME:CST
DTSTART:20230101T000000
END:STANDARD
END:VTIMEZONE
BEGIN:VEVENT
DTSTART;TZID=Asia/Shanghai:20240506T080000
DTEND;TZID=Asia/Shanghai:20240507T170000
DTSTAMP:20260423T175711
CREATED:20240611T011204Z
LAST-MODIFIED:20240611T011204Z
UID:2260-1714982400-1715101200@hijraakemaman.com
SUMMARY:𝐅𝐚𝐦𝐢𝐥𝐲 𝐃𝐚𝐲 𝐇𝐢𝐣𝐫𝐚𝐚 𝟐𝟎𝟐𝟒 : 𝐇𝐢𝐣𝐫𝐚𝐚 𝐎𝐟𝐟 𝐓𝐨 𝐆𝐥𝐚𝐦𝐩𝐢𝐧𝐠
DESCRIPTION:Pada 6 dan 7 Mei 2024\, Klinik Perubatan Hijraa 24Jam Kemaman & Chukai telah mengadakan program Hjiraa Family Day 2024 : Hijraa Off To Glamping di River And Glam Nur Laman Bestari Eco Resort. Seramai hampir 60 peserta telah terlibat dalam program ini melibatkan BOD dan staff KPHK & KPHC. Selain itu\, pelbagai aktiviti yang diadakan seperti aktiviti sukaneka\, sambutan raya klasik\, cabutan bertuah\, agihan duit raya\, aktiviti rempuh halangan dan banyak lagi.\n\n\n\nSemoga program ini dapat mengeratkan ukhuwah antara staff KPHK & KPHC dan terus bersemangat untuk bekerja!
URL:https://hijraakemaman.com/event/%f0%9d%90%85%f0%9d%90%9a%f0%9d%90%a6%f0%9d%90%a2%f0%9d%90%a5%f0%9d%90%b2-%f0%9d%90%83%f0%9d%90%9a%f0%9d%90%b2-%f0%9d%90%87%f0%9d%90%a2%f0%9d%90%a3%f0%9d%90%ab%f0%9d%90%9a%f0%9d%90%9a-%f0%9d%9f%90/
CATEGORIES:Company
ATTACH;FMTTYPE=image/jpeg:https://hijraakemaman.com/wp-content/uploads/2024/06/440479793_758973956427155_3643650069675197016_n.jpg
END:VEVENT
END:VCALENDAR