BEGIN:VCALENDAR
VERSION:2.0
PRODID:-//Hijraa Kemaman - ECPv6.15.11//NONSGML v1.0//EN
CALSCALE:GREGORIAN
METHOD:PUBLISH
X-WR-CALNAME:Hijraa Kemaman
X-ORIGINAL-URL:https://hijraakemaman.com
X-WR-CALDESC:Events for Hijraa Kemaman
REFRESH-INTERVAL;VALUE=DURATION:PT1H
X-Robots-Tag:noindex
X-PUBLISHED-TTL:PT1H
BEGIN:VTIMEZONE
TZID:Asia/Shanghai
BEGIN:STANDARD
TZOFFSETFROM:+0800
TZOFFSETTO:+0800
TZNAME:CST
DTSTART:20230101T000000
END:STANDARD
END:VTIMEZONE
BEGIN:VEVENT
DTSTART;TZID=Asia/Shanghai:20240612T150000
DTEND;TZID=Asia/Shanghai:20240612T160000
DTSTAMP:20260416T114632
CREATED:20240611T014057Z
LAST-MODIFIED:20240611T014151Z
UID:2360-1718204400-1718208000@hijraakemaman.com
SUMMARY:[𝐓𝐢𝐤𝐓𝐨𝐤 𝐋𝐢𝐯𝐞] 𝐀𝐩𝐚 𝐊𝐚𝐭𝐚 𝐃𝐨𝐤𝐭𝐨𝐫 : 𝐒𝐮𝐧𝐚𝐭\, 𝐊𝐚𝐞𝐝𝐚𝐡 𝐏𝐢𝐥𝐢𝐡𝐚𝐧 𝐈𝐛𝐮 𝐁𝐚𝐩𝐚 ?
DESCRIPTION:Jom saksikan live pertama kami di platform TikTok kami\, bersama doktor residen Klinik Perubatan Hijraa 24 Jam Kemaman : Dr Mohamad Yusri di tetapan berikut :\n\n\n\nPlatform : Tiktok [https://www.tiktok.com/@hijraakemaman]\nTarikh : 12.06.2024 (Rabu)\nWaktu : 3PM\n\n\n\nTopik yang akan dikupaskan adalah mengenai Kaedah Sunat Pilihan dan Waktu Terbaik untuk anak anda bersunat. Jadi ibu bapa yang berminat untuk tahu lebih lanjut jom tonton live kami pada hari tersebut.
URL:https://hijraakemaman.com/event/%f0%9d%90%93%f0%9d%90%a2%f0%9d%90%a4%f0%9d%90%93%f0%9d%90%a8%f0%9d%90%a4-%f0%9d%90%8b%f0%9d%90%a2%f0%9d%90%af%f0%9d%90%9e-%f0%9d%90%80%f0%9d%90%a9%f0%9d%90%9a-%f0%9d%90%8a%f0%9d%90%9a%f0%9d%90%ad/
CATEGORIES:CSR
ATTACH;FMTTYPE=image/png:https://hijraakemaman.com/wp-content/uploads/2024/06/JAWAB-DR-2.png
END:VEVENT
BEGIN:VEVENT
DTSTART;TZID=Asia/Shanghai:20240608T080000
DTEND;TZID=Asia/Shanghai:20240608T100000
DTSTAMP:20260416T114632
CREATED:20240611T013902Z
LAST-MODIFIED:20240611T013902Z
UID:2337-1717833600-1717840800@hijraakemaman.com
SUMMARY:𝐇𝐈𝐉𝐑𝐀𝐀 𝐁𝐄𝐀𝐂𝐇 𝐂𝐄𝐋𝐀𝐍 𝐔𝐏 𝐃𝐀𝐘 𝟐𝟎𝟐𝟒 SEMPENA WORLD ENVIRONMENTAL DAY
DESCRIPTION:Pada 8 Jun 2024\, Klinik Perubatan Hijraa 24 Jam Kemaman dan Klinik Perubatan Hijraa 24 Jam Chukai telah mengadakan program Hijraa Beach Clean Up Day 2024 sempena Hari Alam Sekitar Sedunia 2024. Program bersih pantai ini diadakan di Pantai Kuala Kemaman yang diadakan bermula jam 8 pagi sehingga 10 pagi.\n\n\n\nSeramai 50 peserta terlibat dalam aktiviti membersihkan sepanjang pantai Kuala Kemaman ini. Selain itu\, turut dihadiri beberapa peserta daripada kelab Geng Plastik Ija yang turut memeriahkan aktiviti ini.\n\n\n\nTerima kasih kepada semua peserta yang terlibat dalam aktiviti bersih pantai ini. Semoga aktiviti bersih pantai dapat memupuk masyarakat supaya lebih peka dalam menjaga kebersihan alam sekitar.
URL:https://hijraakemaman.com/event/%f0%9d%90%87%f0%9d%90%88%f0%9d%90%89%f0%9d%90%91%f0%9d%90%80%f0%9d%90%80-%f0%9d%90%81%f0%9d%90%84%f0%9d%90%80%f0%9d%90%82%f0%9d%90%87-%f0%9d%90%82%f0%9d%90%84%f0%9d%90%8b%f0%9d%90%80%f0%9d%90%8d/
CATEGORIES:CSR
ATTACH;FMTTYPE=image/jpeg:https://hijraakemaman.com/wp-content/uploads/2024/06/448018117_778810747776809_2031789694164536720_n.jpg
END:VEVENT
BEGIN:VEVENT
DTSTART;TZID=Asia/Shanghai:20240606T100000
DTEND;TZID=Asia/Shanghai:20240606T110000
DTSTAMP:20260416T114632
CREATED:20240611T013120Z
LAST-MODIFIED:20240611T013313Z
UID:2327-1717668000-1717671600@hijraakemaman.com
SUMMARY:𝐏𝐑𝐎𝐆𝐑𝐀𝐌 𝐊𝐄𝐒𝐈𝐇𝐀𝐓𝐀𝐍 "𝐓𝐈𝐍𝐘 𝐇𝐀𝐍𝐃 𝐇𝐘𝐆𝐈𝐄𝐍𝐄 𝐉𝐔𝐍𝐈𝐎𝐑𝐒" 𝐃𝐈 𝐂 𝐉𝐀𝐍𝐍𝐀𝐇 𝐏𝐑𝐄𝐒𝐂𝐇𝐎𝐎𝐋 & 𝐏𝐋𝐀𝐘𝐒𝐂𝐇𝐎𝐎𝐋
DESCRIPTION:Pada 6 Jun 2024\, Klinik Perubatan Hijraa 24 Jam Kemaman telah mengadakan program kesihatan iaitu Tiny Hand Hygiene Juniors di C Jannah Preschool & Playschool\, Kemaman.\n\nObjektif program ini adalah bagi mendidik murid-murid tentang kepentingan kebersihan tangan. Beberapa aktiviti diadakan seperti perkongsian kesihatan\, mini experimen\, demonstrasi membasuh tangan dengan betul dan edaran cenderamata kepada murid-murid.\n\n\n\nTerima kasih kepada semua pihak pengurusan C Jannah Preschool & Playschool atas jemputan kami ke program ini!
URL:https://hijraakemaman.com/event/%f0%9d%90%8f%f0%9d%90%91%f0%9d%90%8e%f0%9d%90%86%f0%9d%90%91%f0%9d%90%80%f0%9d%90%8c-%f0%9d%90%8a%f0%9d%90%84%f0%9d%90%92%f0%9d%90%88%f0%9d%90%87%f0%9d%90%80%f0%9d%90%93%f0%9d%90%80%f0%9d%90%8d-2/
CATEGORIES:CSR
ATTACH;FMTTYPE=image/jpeg:https://hijraakemaman.com/wp-content/uploads/2024/06/441910778_776546151336602_1066514365072849811_n.jpg
END:VEVENT
BEGIN:VEVENT
DTSTART;TZID=Asia/Shanghai:20240528T100000
DTEND;TZID=Asia/Shanghai:20240528T110000
DTSTAMP:20260416T114632
CREATED:20240611T012823Z
LAST-MODIFIED:20240611T012823Z
UID:2317-1716890400-1716894000@hijraakemaman.com
SUMMARY:𝐏𝐑𝐎𝐆𝐑𝐀𝐌 𝐊𝐄𝐒𝐈𝐇𝐀𝐓𝐀𝐍 "𝐓𝐈𝐍𝐘 𝐇𝐀𝐍𝐃 𝐇𝐘𝐆𝐈𝐄𝐍𝐄 𝐉𝐔𝐍𝐈𝐎𝐑𝐒" 𝐃𝐈 𝐓𝐇𝐄 𝐌𝐈𝐊𝐈𝐆𝐄𝐍 𝐊𝐈𝐃𝐙 𝐏𝐋𝐀𝐘 & 𝐋𝐄𝐀𝐑𝐍𝐈𝐍𝐆 𝐂𝐄𝐍𝐓𝐑𝐄
DESCRIPTION:Pada 28 Mei 2024\, Klinik Perubatan Hijraa 24 Jam Kemaman telah mengadakan program kesihatan iaitu Tiny Hand Hygiene Juniors di The Mikigen Kidz Play & Learning Centre\, Kemaman.\n\nObjektif program ini adalah bagi mendidik murid-murid tentang kepentingan kebersihan tangan. Beberapa aktiviti diadakan seperti perkongsian kesihatan daripada Dr. Nad\, mini experimen\, demonstrasi membasuh tangan dengan betul dan edaran cenderamata kepada murid-murid.\n\n\n\nTerima kasih kepada semua pihak pengurusan The Mikigen Kid Play & learning Centre atas jemputan kami ke program ini!
URL:https://hijraakemaman.com/event/%f0%9d%90%8f%f0%9d%90%91%f0%9d%90%8e%f0%9d%90%86%f0%9d%90%91%f0%9d%90%80%f0%9d%90%8c-%f0%9d%90%8a%f0%9d%90%84%f0%9d%90%92%f0%9d%90%88%f0%9d%90%87%f0%9d%90%80%f0%9d%90%93%f0%9d%90%80%f0%9d%90%8d/
CATEGORIES:CSR
ATTACH;FMTTYPE=image/jpeg:https://hijraakemaman.com/wp-content/uploads/2024/06/445550362_772387661752451_3753554625863601863_n.jpg
END:VEVENT
BEGIN:VEVENT
DTSTART;TZID=Asia/Shanghai:20240525T080000
DTEND;TZID=Asia/Shanghai:20240526T170000
DTSTAMP:20260416T114632
CREATED:20240611T012107Z
LAST-MODIFIED:20240611T012218Z
UID:2300-1716624000-1716742800@hijraakemaman.com
SUMMARY:𝐁𝐨𝐨𝐭𝐡 𝐎𝐩𝐞𝐧𝐢𝐧𝐠 𝐒𝐊 𝐁𝐮𝐤𝐢𝐭 𝐌𝐞𝐧𝐭𝐨𝐤\, 𝐊𝐞𝐦𝐚𝐦𝐚𝐧
DESCRIPTION:Klinik Perubatan Hijraa 24 Jam Kemaman mengadakan booth opening di sempena Hari Terbuka SK Bukit Mentok\, Kemaman. Pelbagai aktivit menarik yang terdapat di karnival ini seperti pameran agensi-agensi\, Jualan Rahmah\, persembahan dari murid-murid dan jualan makanan.\n\n\n\nKlinik Perubatan Hijraa 24 Jam Kemaman telah menyediakan saringan kesihatan dan pemeriksaan telinga secara PERCUMA kepada semua pelawat yang hadir ke karnival ini.\n\n\n\nTerima kasih pihak pengurusan SK Bukit Mentok\, Kemaman kerana telah menjemput kami ke karnival ini!
URL:https://hijraakemaman.com/event/%f0%9d%90%81%f0%9d%90%a8%f0%9d%90%a8%f0%9d%90%ad%f0%9d%90%a1-%f0%9d%90%8e%f0%9d%90%a9%f0%9d%90%9e%f0%9d%90%a7%f0%9d%90%a2%f0%9d%90%a7%f0%9d%90%a0-%f0%9d%90%92%f0%9d%90%8a-%f0%9d%90%81%f0%9d%90%ae/
CATEGORIES:CSR
ATTACH;FMTTYPE=image/jpeg:https://hijraakemaman.com/wp-content/uploads/2024/06/441208096_767240755600475_8622409372286835624_n.jpg
END:VEVENT
BEGIN:VEVENT
DTSTART;TZID=Asia/Shanghai:20240404T080000
DTEND;TZID=Asia/Shanghai:20240404T170000
DTSTAMP:20260416T114632
CREATED:20240611T005228Z
LAST-MODIFIED:20240611T005249Z
UID:2229-1712217600-1712250000@hijraakemaman.com
SUMMARY:𝐀𝐠𝐢𝐡𝐚𝐧 𝐁𝐮𝐛𝐮𝐫 𝐋𝐚𝐦𝐛𝐮𝐤 𝐏𝐞𝐫𝐜𝐮𝐦𝐚 𝐒𝐞𝐤𝐢𝐭𝐚𝐫 𝐏𝐚𝐝𝐚𝐧𝐠 𝐀𝐬𝐭𝐚𝐤𝐚\, 𝐊𝐞𝐦𝐚𝐦𝐚𝐧
DESCRIPTION:Pada 4 April 2024\, Klinik Perubatan Hijraa 24Jam Kemaman telah mengadakan program agihan bubur lambuk percuma di sekitar Padang Astaka\, Kemaman. Program ini bertujuan bagi berkongsi rezeki bersama-sama masyarakat di sekitar Padang Astaka Kemaman yang hadir untuk mengunjungi bazaar ramadan. \nAgihan bubur lambuk ini bermula pada jam 5.00 petang sehingga 7.00 petang mendapat sambutan yang meriah daripada pengunjung yang hadir ke bazaar ramadan yang berdekatan. Sebanyak 200 bekas bubur lambuk diagihkan kepada pengunjung pejalan kaki dan juga kepada pengunjung yang menaiki kenderaan. \nSemoga program agihan bubur lambuk ini dapat diadakan lagi pada ramadan akan datang. \n 
URL:https://hijraakemaman.com/event/%f0%9d%90%80%f0%9d%90%a0%f0%9d%90%a2%f0%9d%90%a1%f0%9d%90%9a%f0%9d%90%a7-%f0%9d%90%81%f0%9d%90%ae%f0%9d%90%9b%f0%9d%90%ae%f0%9d%90%ab-%f0%9d%90%8b%f0%9d%90%9a%f0%9d%90%a6%f0%9d%90%9b%f0%9d%90%ae/
CATEGORIES:CSR
ATTACH;FMTTYPE=image/jpeg:https://hijraakemaman.com/wp-content/uploads/2024/06/435278801_741072991550585_8346109702317360443_n.jpg
END:VEVENT
END:VCALENDAR